BEGIN:VCALENDAR
VERSION:2.0
PRODID:-//https://fondazionedozza.it///NONSGML kigkonsult.se iCalcreator 2.10.15//
METHOD:PUBLISH
BEGIN:VEVENT
UID:20260424T164039CEST-5927OzxcmO@https://fondazionedozza.it/
DTSTAMP:20260424T144039Z
DESCRIPTION:FIABESKA&nbsp\;\nDal 30 maggio al 30 agosto presso il Museo Roc
 ca di Dozza\n\nCOMUNICATO STAMPA\nLa Fondazione Dozza Città d'Arte è lieta
  di presentare 'FIABESKA'\, personale dell'artista Omar Galliani a cura di
  Agnese Tonelli.\n\n\nInaugurazione sabato 30 maggio 2026 alle ore 17:00 c
 on ingresso libero fino ad esaurimento posti.\nPrenotazione consigliata:&n
 bsp\;rocca@comune.dozza.bo.it&nbsp\;- 0542 678240.\nDal 31 maggio al 30 ag
 osto 2026 la visita alla mostra è compresa nel biglietto d'ingresso del Mu
 seo.\nGIORNI E ORARI DI VISITA ALLA MOSTRA\n\n&nbsp\;\nBreve descrizione d
 ella mostra:\n\nLa mostra offre uno sguardo insolito al lavoro del Maestro
  Omar Galliani. Le oltre 40 opere selezionate (disegni su carta\, carta se
 ta e tavole in pioppo) coprono un arco temporale ampio\, dagli anni ‘70 ad
  oggi\, in cui l’artista indaga la potenza ed il significato del segno cap
 ace di scorgere l’intimo di iconografie quali la rosa ed il femminile.\nIn
  occasione della mostra è stato realizzato un leporello dal titolo Ti acca
 rezzerò a mezzanotte a cura di Cichinobrigante in vendita presso il booksh
 op del Museo Rocca di Dozza.\n\nBio dell'artista:\n\nOmar Galliani nasce a
  Montecchio Emilia (RE) nel 1954. Dopo aver frequentato l’Accademia di Bel
 le Arti di Bologna\, ha insegnato nelle Accademie di Urbino\, Carrara e Br
 era. Viene invitato alla prima Triennale Internazionale del Disegno di Nor
 imberga nel 1979. Nel 1980 aderisce al “Magico Primario”\, movimento fonda
 to da Flavio Caroli\, e nel 1983 all’Anacronismo\, corrente teorizzata da 
 Maurizio Calvesi e Italo Tomassoni. Partecipa a tre Biennali di Venezia (n
 el 1982\, 1984 e 1986) e a due Quadriennali di Roma (1986 e 1996). Nel 198
 1 è presente alla Biennale di San Paolo del Brasile e a quella di Tokio\, 
 nel 1982 alla Biennale di Parigi e nel 2003 a quella di Praga. Nel 1991 re
 alizza “Siderea”\, il terzo sipario per lo storico Teatro Romolo Valli di 
 Reggio Emilia\; la documentazione fotografica è affidata a Luigi Ghirri. N
 el 1998 la New York University gli dedica una personale.\nÈ del 2000 la pr
 ima personale “Aurea in Cina” presso il Museum of the Central Academy of F
 ine Art a cui seguirà nel 2003 l’invito alla prima Biennale di Pechino\, v
 inta ex aequo con George Baselitz. Successivamente partecipa alla Biennale
  del 2005 e proseguirà il suo tour cinese toccando le città di Shanghai\, 
 Chengdu\, Suzhou\, Dalian\, Xi’an\, Wuhan\, Hangzhou\, Ningbo. Questo viag
 gio culminerà poi con l’esposizione del 2007 “Omar Galliani tra Oriente e 
 Occidente” alla Fondazione Querini Stampalia di Venezia\, evento speciale 
 della Biennale di Venezia. Nel 2005\, l’Archivio di Stato di Torino presen
 ta l’installazione “Grande disegno Italiano”: evento in cui un disegno di 
 sei metri viene messo in dialogo con uno studio preparatorio per la “Vergi
 ne delle rocce” di Leonardo. Le Gallerie degli Uffizi di Firenze nel 2008 
 acquisiscono per le proprie collezioni il trittico “Notturno”. Nel 2011\, 
 l’artista torna in Cina con “Diario cinese” al Centro Culturale del quarti
 ere italiano di Tianjin e all’Istituto Italiano di Cultura di Pechino\, po
 i in Corea del Sud presso il MOA – Museum of Art della National University
  di Seoul con “Seoul’s Soul”\, con la collaborazione dell’Istituto Italian
 o di Cultura. Lo stesso anno\, una grande tavola “Dal Codice degli Angeli”
  viene acquisita per le collezioni di arte contemporanea dei Musei Vatican
 i e si inaugura “Bellini\, Botticelli\, Pollaiolo. Capolavori s/velati da 
 Omar Galliani” al Museo Poldi Pezzoli di Milano. Nel 2012 presenta “Omar R
 oma Amor” al Museo Bilotti di Roma e “Seoul ‘S Soul” nel nuovo CAFA Art Mu
 seum di Pechino. A Londra\, presso l’Istituto Italiano di Cultura\, espone
  “Disegno Siamese” nelle collezioni d’arte contemporanea della Farnesina. 
 Nel 2013 realizza “Il sogno della Principessa Lyu Ji” nella Sala Cinese de
 l Caffè Florian di Venezia\, per la XII edizione di Temporanea. Nel 2014 “
 L’opera al nero. Omar Galliani” è alla GAM di Torino. Nel 2015 espone per 
 la prima volta i suoi taccuini di viaggio “Croquis de voyage” all’Accademi
 a di Belle Arti a Bologna e inaugura la mostra promossa dal Comune di Mila
 no e da Expo “Omar Galliani. Il disegno nell’acqua” presso l’Acquario Civi
 co e la Conca dell’Incoronata\, con un’opera site-specific. Nel 2017 il Di
 rettore degli Uffizi gli commissiona un autoritratto per la collezione uff
 iciale del Corridoio Vasariano. Nell’ottobre 2018 si è tenuta la presentaz
 ione ufficiale dell’opera nell’Auditorium Vasari. Sempre nel 2017\, alle G
 allerie d’Italia – Banca Intesa Sanpaolo di Milano\, si inaugura la person
 ale “Intorno a Caravaggio”. Nel 2018 la GAMeC – Galleria d’Arte Moderna e 
 Contemporanea e l’Accademia Carrara di Bergamo lo invitano a “Raffaello e 
 l’eco del Mito”\; nel Monastero delle Clarisse di Grosseto viene inaugurat
 a “Teofanie”. Nel 2019 il CIAC di Foligno presenta “Il corpo del Disegno” 
 e la Tornabuoni Art di Londra inaugura “A symphony in graphite”. La Fondaz
 ione Bevilacqua La Masa presenta “Dipinta – La metis dell’Acqua”. Nel 2021
 \, La Galleria Tornabuoni Art apre la mostra “Baci Rubati/Covid-19”\, prod
 otta durante l’anno di pandemia\, e l’Art Museum Riga Bourse\, sezione del
  Latvian National Museum of Art\, inaugura la mostra “Self-Reflections”\, 
 con la collaborazione delle Gallerie degli Uffizi. Negli ultimi mesi dello
  stesso anno\, il Museo Marca di Catanzaro ospita la personale “Omar Galli
 ani. Il disegno non ha tempo”. Nel 2022 il Mart di Rovereto lo invita a “G
 iotto e il Novecento” e acquisisce per le proprie collezioni la tavola “Ri
 flessi”. Nel 2023 il teatro Galli e il Part di Rimini presentano l’opera “
 Per Santa Teresa”. Nello stesso anno\, il Palazzo Reale di Milano presenta
  la monografica “Omar Galliani. Diacronica. Il tempo sospeso”\, mentre la 
 Fondazione Franco Zeffirelli di Firenze l’installazione “Omar Galliani. Un
 ’Opera per Zeffirelli”. A gennaio del 2024 si inaugura la monografica “Oma
 r Galliani. L’eco della Sibilla”\, tra le sale del Palazzo dei Capitani di
  Ascoli Piceno\, e la collettiva “Le vie della fede. Testimonianze d’arte 
 e di pensiero” al Museo Nazionale di Castel Sant’Angelo di Roma. A marzo\,
  il Collegio e la Galleria Alberoni ospitano “Silenzio\, l’enigma del vers
 o. Il Cristo di spalle di Omar Galliani in dialogo con l’Ecce Homo di Anto
 nello da Messina”. Il Museo del 900 di Milano acquisisce per le proprie co
 llezioni l’opera “Dalla bocca e dal collo del foglio” del 1977. Partecipa 
 alla mostra “Arte in Ambasciata: Italia Contemporanea a Vilnius”. Nel 2025
  si inaugura la personale “Omar Galliani. L’ellisse temporale del disegno”
  presso gli spazi della Fondazione Banca Montepaone di Catanzaro\, “Omar G
 alliani. Concordi lumine maior” alla Fondazione Carifano\, presso le sedi 
 del Palazzo Bracci Pagani e della Pinacoteca San Domenico di Fano\, “Omar 
 Galliani. Apri gli occhi” alla Chiesa dei Padri Domenicani di Soave e “All
 a riscoperta di un volto. Omar Galliani per Paolo Troubetzkoy” al Museo de
 l Paesaggio di Verbania. Nel 2026\, l’opera “Omar Roma Amor” entra a far p
 arte delle collezioni della GNAMC di Roma.\n&nbsp\;\n* Orari e programmi p
 otranno subire variazioni per le quali occorre contattare il soggetto orga
 nizzatore. https://fondazionedozza.it/programma-eventi/eventi-spettacoli-a
 lla-rocca-di-dozza/Eventi/897-fiabeska.html
DTSTART:20260530T170000Z
DTEND:20260830T190000Z
LOCATION:Rocca di Dozza (Piazzale Rocca\, 40060 Dozza BO\, Italia)
SUMMARY:FIABESKA
URL:https://fondazionedozza.it/programma-eventi/eventi-spettacoli-alla-rocc
 a-di-dozza/Eventi/897-fiabeska.html
END:VEVENT
END:VCALENDAR
