BEGIN:VCALENDAR
VERSION:2.0
PRODID:-//https://fondazionedozza.it///NONSGML kigkonsult.se iCalcreator 2.10.15//
METHOD:PUBLISH
BEGIN:VEVENT
UID:20260422T020759CEST-938039Ne00@https://fondazionedozza.it/
DTSTAMP:20260422T000759Z
DESCRIPTION:RACCONTAMI UNA STORIA\nSabato 23 maggio 2026 alle ore 10:30 pre
 sso la Biblioteca Comunale di Toscanella\n\nLa Biblioteca Comunale di Tosc
 anella è lieta di presentare 'Raccontami una storia'\, letture per bambine
  e bambini dai 0 ai 6 anni a cura dei volontari e volontarie Nati Per Legg
 ere.\n\n&nbsp\;\nBiblioteca di Toscanella di Dozza Piazza Libertà 3 40060 
 Toscanella (Dozza) Tel. 0542 673564 Whatsapp 366 1429633  Orario invernale
  (15 settembre - 15 giugno) Lun-Mar-Gio 14.30 - 19.00 Mer-Ven-Sab 8.30 - 1
 2.30\n\n* Orari e programmi potranno subire variazioni per le quali occorr
 e contattare il soggetto organizzatore. https://fondazionedozza.it/program
 ma-eventi/eventi-spettacoli-alla-rocca-di-dozza/Eventi/895-raccontami-una-
 storia.html
DTSTART:20260523T103000Z
DTEND:20260523T113000Z
LOCATION:Biblioteca di Toscanella di Dozza ()
SUMMARY:RACCONTAMI UNA STORIA
URL:https://fondazionedozza.it/programma-eventi/eventi-spettacoli-alla-rocc
 a-di-dozza/Eventi/895-raccontami-una-storia.html
END:VEVENT
END:VCALENDAR
