BEGIN:VCALENDAR
VERSION:2.0
PRODID:-//https://fondazionedozza.it///NONSGML kigkonsult.se iCalcreator 2.10.15//
METHOD:PUBLISH
BEGIN:VEVENT
UID:20260422T020631CEST-3111vhDSLD@https://fondazionedozza.it/
DTSTAMP:20260422T000631Z
DESCRIPTION:GALLINE ALLA RISCOSSA\nDomenica 24 maggio 2026 dalle ore 15 all
 e ore 18 a Toscanella\n\nIl Centro Occupazionale 'La Tartaruga' è lieto di
  presentare 'GALLINE ALLA RISCOSSA'\, un'occasione per conoscere il Pollai
 o Sociale e il nuovo progetto del PolliTecnico.&nbsp\;\n\ndalle ore 15 all
 e ore 18: Mercatino e visita alle galline del Pollaio Sociale®. Nel mercat
 ino potrai trovare l'oggettistica Pollaio Sociale® e quella realizzata nei
  laboratori della Tartaruga.\nalle ore 15:&nbsp\;Alla ricerca delle uova p
 erdute\, un momento pensato per tutti i bambini e le loro famiglie che vog
 liono divertirsi a giocare assieme andando alla ricerca delle uova nel gia
 rdino di Tartaruga. Prenota cliccando QUI e ricorda di portare il tuo cest
 ino.\n\n\nPosti limitati! Info: www.latartaruga.coop&nbsp\;- tartaruga@sea
 coop.coop.\n&nbsp\;\n\n\n* Orari e programmi potranno subire variazioni pe
 r le quali occorre contattare il soggetto organizzatore. https://fondazion
 edozza.it/programma-eventi/eventi-spettacoli-alla-rocca-di-dozza/Eventi/89
 3-galline-alla-riscossa.html
DTSTART:20260524T150000Z
DTEND:20260524T180000Z
LOCATION:La Tartaruga\, via Capitolo n. 2\, Toscanella di Dozza (Via Capito
 lo 2\, Toscanella di Dozza)
SUMMARY:GALLINE ALLA RISCOSSA
URL:https://fondazionedozza.it/programma-eventi/eventi-spettacoli-alla-rocc
 a-di-dozza/Eventi/893-galline-alla-riscossa.html
END:VEVENT
END:VCALENDAR
