BEGIN:VCALENDAR
VERSION:2.0
PRODID:-//https://fondazionedozza.it///NONSGML kigkonsult.se iCalcreator 2.10.15//
METHOD:PUBLISH
BEGIN:VEVENT
UID:20260421T224945CEST-90080nl3vO@https://fondazionedozza.it/
DTSTAMP:20260421T204945Z
DESCRIPTION:XXX BIENNALE MURO DIPINTO DI DOZZA\nSAVE THE WALL\nDal 15 al 21
  settembre 2025\nLa Fondazione Dozza Città d'Arte è lieta di presentare la
  XXX edizione della Biennale del Muro Dipinto di Dozza.\nIl Muro Dipinto è
  una manifestazione nata negli anni Sessanta del secolo scorso che ha reso
  Dozza una galleria d’arte a cielo aperto\, sempre disponibile alla visita
 \, senza orari di apertura né biglietti d’ingresso. La galleria propone\, 
 direttamente sui muri delle case\, affreschi e dipinti a permanente testim
 onianza degli artisti invitati ogni due anni ad esprimersi con la propria 
 arte. Il Muro Dipinto ha materialmente caratterizzato le facciate delle ab
 itazioni del centro storico\; le pitture murali sono in stretta simbiosi c
 on la storia\, l’atmosfera\, i profumi dell’antico borgo e del dolce paesa
 ggio collinare circostante. Sui muri di Dozza\, attorno alle finestre\, ai
  portoni\, alle botteghe squillano o s’accordano le tinte dei dipinti. Doz
 za è diventata un’antologia pittorica en plein air di singolare interesse\
 , non solo perché copre un arco di tempo semisecolare\, ma anche perché i 
 dipinti sono strettamente e intimamente legati al luogo\, per il quale fur
 ono pensati. Dal 2007 il Muro Dipinto ha coinvolto anche la vicina frazion
 e di Toscanella\, con un focus sulla street art.\nPROGRAMMA XXX BIENNALE M
 URO DIPINTO DOZZA\n&nbsp\;\nCOMUNICATI STAMPA:\n\nXXX BIENNALE DEL MURO DI
 PINTO DI DOZZA FRA CONSERVAZIONE E CREAZIONE: ECCO I PROTAGONISTI DELL’EDI
 ZIONE 2025\nSAVE THE WALL: IL MURO DIPINTO GUARDA AL FUTURO PARTENDO DALLA
  CONSERVAZIONE DELLA MEMORIA\n\nInfo: rocca@comune.dozza.bo.it&nbsp\;- 054
 2 678240 - iat@comune.dozza.bo.it&nbsp\;- 380 1234309.\n\n* Orari e progra
 mmi potranno subire variazioni per le quali occorre contattare il soggetto
  organizzatore. https://fondazionedozza.it/programma-eventi/eventi-spettac
 oli-alla-rocca-di-dozza/Eventi/779-xxx-biennale-muro-dipinto-di-dozza.html
DTSTART:20250915T100000Z
DTEND:20250921T190000Z
LOCATION:Dozza (40060 Dozza BO\, Italia)
SUMMARY:XXX BIENNALE MURO DIPINTO DI DOZZA
URL:https://fondazionedozza.it/programma-eventi/eventi-spettacoli-alla-rocc
 a-di-dozza/Eventi/779-xxx-biennale-muro-dipinto-di-dozza.html
END:VEVENT
END:VCALENDAR
