BEGIN:VCALENDAR
VERSION:2.0
PRODID:-//https://fondazionedozza.it///NONSGML kigkonsult.se iCalcreator 2.10.15//
METHOD:PUBLISH
BEGIN:VEVENT
UID:20260422T020928CEST-7906Ga3ti3@https://fondazionedozza.it/
DTSTAMP:20260422T000928Z
DESCRIPTION:GIORNATA DELLA POESIA\nSabato 21 marzo 2026 alle ore 16 presso 
 il Centro Occupazionale 'La Tartaruga'\n\nL'Associazione di Volontariato C
 ulturale 'Incontri' è lieta di presentare l'undicesima edizione della Gior
 nata della Poesia\, incontro con Poeti del Territorio e presentazione dei 
 loro libri\, lettura di poesie e dialogo con il pubblico. Il tutto sotto f
 orma di OPEN MIC (microfono aperto a chiunque desideri intervenire con i p
 ropri testi e pensieri) ed intervallato da brani musicali di vario genere.
 &nbsp\;\nIngresso libero fino ad esaurimento posti. Prenotazione consiglia
 ta: 347 0364605 -&nbsp\;incontridozzesi@gmail.com.\n&nbsp\;\n\n&nbsp\;\nBi
 blioteca di Toscanella di Dozza Piazza Libertà 3 40060 Toscanella (Dozza) 
 Tel. 0542 673564 Whatsapp 366 1429633  Orario invernale (15 settembre - 15
  giugno) Lun-Mar-Gio 14.30 - 19.00 Mer-Ven-Sab 8.30 - 12.30\n\n* Orari e p
 rogrammi potranno subire variazioni per le quali occorre contattare il sog
 getto organizzatore. https://fondazionedozza.it/programma-eventi/eventi-sp
 ettacoli-alla-rocca-di-dozza-2/Eventi/880-giornata-della-poesia.html
DTSTART:20260321T160000Z
DTEND:20260321T180000Z
LOCATION:Centro Occupazionale La Tartaruga (Via Capitolo 2\, Toscanella di 
 Dozza)
SUMMARY:GIORNATA DELLA POESIA
URL:https://fondazionedozza.it/programma-eventi/eventi-spettacoli-alla-rocc
 a-di-dozza-2/Eventi/880-giornata-della-poesia.html
END:VEVENT
END:VCALENDAR
